BEGIN:VCALENDAR
VERSION:2.0
PRODID:www.stappen-shoppen.nl
BEGIN:VEVENT
UID:stappen-shoppen.nl/entity/643e8fefe2223391140780ad
DTSTAMP:20260422T172839Z
ORGANIZER;CN=:MAILTO:
DTSTART:20250426T110000Z
DTEND:20250426T190000Z
URL:https://www.visitbaarle.com/ical/643e8fefe2223391140780ad
SUMMARY:KONINGSDAG BAARLE-NASSAU
DESCRIPTION:Na succesvolle andere edities is Stg Jeugdwerk Baarle er dit jaar weer bij met Koningsdag. 
END:VEVENT
END:VCALENDAR

