BEGIN:VCALENDAR
VERSION:2.0
PRODID:www.stappen-shoppen.nl
BEGIN:VEVENT
UID:stappen-shoppen.nl/entity/69db7914867136c70d0b2bcd
DTSTAMP:20260419T210951Z
ORGANIZER;CN=:MAILTO:
DTSTART:20260613T070000Z
DTEND:20260613T150000Z
URL:https://www.visitbaarle.com/ical/69db7914867136c70d0b2bcd
SUMMARY:Fietstocht 4 kernen 
DESCRIPTION:Op zaterdag 13 juni organiseert Amalia een gezellige fietstocht door de vier verschillende kernen van ons heem. 
END:VEVENT
END:VCALENDAR

